BEGIN:VCALENDAR
PRODID:-//Det Danske Spejderkorps//NONSGML Gruppeweb//EN
VERSION:2.0
CALSCALE:GREGORIAN
X-PUBLISHED-TTL:PT1H
X-WR-CALNAME:Juniorer i Nykøbing F. Spejderne
METHOD:PUBLISH
BEGIN:VEVENT
UID:gruppeweb.dk:3109:event:197
DTSTAMP:20260422T153449Z
LAST-MODIFIED:20250616T122821Z
SUMMARY:Sommerafslutning 2025
DESCRIPTION:Glade spejdere\, forældre\, søskende og bedsteforældre er al
 le inviteret  \nonsdag d. 18. juni 2025 kl. 17.00.\n\n\n     Arrangementet
  foregår på Grønnegårdsvej 43\, hvor vi stiller borde og  \nbænke fre
 m.\nMedbring selv kød til grillen\, så sørger gruppen for diverse salat
 .\nØl og vand kan købes til fornuftige priser.\nHusk. Tallerkner\, besti
 k og kopper/glas.\nKom og vær med til en hyggelig aften med sang og godt 
 humør.Få en snak med  \nlederne\, andre forældre og se nye som gamle an
 sigter.Det koster 20 kr. pr.  \nperson over 3 år\, og sidste tilmelding e
 r søndag den 15. juni 2025.\n
URL:https://www.nykfspejderne.dk/begivenhed/sommerafslutning-2025
DTSTART:20250618T150000Z
DTEND:20250618T170000Z
LOCATION:Hytten på Grønnegårdsvej\, Grønnegårdsvej 43\, 4800 Nykøbing
  F
END:VEVENT
BEGIN:VEVENT
UID:gruppeweb.dk:3109:event:202
DTSTAMP:20260422T153449Z
LAST-MODIFIED:20250612T114610Z
SUMMARY:Kulturfabrikken - indvielsesfest af nyt udeområde
DESCRIPTION:*Troppen er med til at arrangere\, og stå for mini-adventurel
 øb med  \nudfordrende poster.\n*VI håber\, at der er så mange som mulig
 t af tropspejderne\, som vil hjælpe  \ntil mellem kl. 14:30-18:00\n\n\n*I
 ndvielsesfest for Kulturfabrikkens nye udeområde 27. og 28. juni 2025*\n\
 n\nEfter en lang rejse er vi nu ved målet. Derfor er vi glade\nfor at inv
 itere jer til indvielsesfesten for Kulturfabrikkens nye udeområde\,\nsom 
 er støttet af Nordea-fonden. 😊\n\n\nPrøv de nye aktivitetsmuligheder\
 , nyd koncerterne fra\namfiteatrets sæder\, vær med til nogle af de mang
 e spændende workshops og\naktiviteter\, drik en kop varmt eller et glas k
 oldt fra Kulturfabrikkens nye\nudendørscafé\, smag på Storm & Lasses le
 tte sommermad – eller slå jer  \nned og\nindsnus atmosfæren…\n\n\nVe
 lkomst & kage – Åbningstale – Koncert med Dem Du\nElsker - Kreative w
 orkshops: Design med tekstilfarver\, Naturtryk og Byg –\nCirkusworkshop 
 – Graffitiworkshop – Mød Brydeklubben Thor\, Nykøbing F.\nSpejderne\
 , Falster Klatreklub og frivilliggruppen Regnbuen på  \nLolland-Falster 
 –\nGuldKantens SkateKlub: Skate og ”Bedste trick” konkurrence -  \nF
 amiliekoncert med\nTrypical Cumbia – Let sommermad – DJ’s.\n\n\n \n
 \n\n*Generelt*\n\n\nUdendørscaféen er åben fredag kl. 14.30-21.00 og l
 ørdag kl.\n12.00-16.00.\n\n\nVi sælger øl og vin fredag kl. 17.00-21.00
 \; der kan kun\ndrikkes alkohol i dette tidsrum. Medbring venligst ikke no
 gen former for\nalkohol.\n\n\n* *\n\n\n*Velkomst & kage: fredag kl. 14.30
 -15.00*\n\n\nÅbningstale ved Ole K. Larsen\, formand for Landdistrikter\,
 \nKultur og Fritidsudvalget.\n\n\n \n\n\n*Aktiviteter/workshops: fredag k
 l. 15.00-18.00*\n\n\nGuldKantens SkateKlub: Prøv kræfter med skate eller
  scoot på\nde nye udendørsramper og vær med til ”Best Trick” konkur
 rencen.\n\n\nDesign med tekstilfarver: Mal og tegn på T-shirt\, kasketter
 \nog muleposer.\n\n\nByg: Vi bygger seje ting af træ og drivtømmer.\n\n\
 nGraffiti: Prøv at lave graffiti på vores nye graffitivæg.\n\n\nNykøbi
 ng F. Spejderne: Vær med til mini-adventureløb med\nudfordrende poster.\
 n\n\nRegnbuen: Spil\, snak\, hyg og hækl med Regnbuen på\nLolland-Falste
 r.\n\n\n \n\n\n*DJ Grønne G: fredag kl. 15.00-19.00*\n\n\nDJ Grønne G l
 ader luften med lækre sommervibes.\n\n\n \n\n\n*Let sommermad: fredag kl
 . 17.00-18.30*\n\n\nStorm & Lasse laver lækker mad til os.\n\n\n \n\n\n*
 Koncert med Dem Du Elsker: fredag kl. 19.00-20.00*\n\n\nDanske hits fra 80
 ’erne til nu. Et brag af en koncert\, fuld\naf fest og energi.\n\n\n \n
 \n\n*DJ Origignarly Edd: fredag kl. 20.00-21.00*\n\n\n\nDJ Origignarly Edd
  sørger for sprød sommerstemning med\nmasser af groove.\n\n\n \n\n*Fami
 liekoncert med Trypical Cumbia: lørdag kl.\n12.00-12.45*\n\n\nLatinamerik
 ansk folkemusik\, fuld af farver og swingende\nrytmer.\n\n\n \n\n\n*Aktiv
 iteter/workshops lørdag kl. 13.00-16.00*\n\n\nCirkus Panik: Prøv kræfte
 r med jonglering\, akrobatik\,\nhulahop og ethjulede cykler.\n\n\nNaturtry
 k: Lav flotte flag med plantetryk.\n\n\nByg: Vi bygger seje ting af træ o
 g drivtømmer.\n\n\nBrydning: Prøv at bryde med Brydeklubben Thor.\n\n\nS
 pejdere: Lav pandekager over bål med Nykøbing F. Spejderne.\n\n\n \n\n\
 n*På gensyn is: lørdag kl. 16.00*\n\n\nTak for nu. Vi ses til Åben Somm
 er!\n\n\nOBS: Kage\, let sommermad og is – til de første 80 personer.\n
 \n\n \n\n\n*SwapShoppen er åben begge dage.*\n\n\n\n\nTrænger du til at
  få ryddet op i klædeskabet eller\nbogreolen? Medbring tøj og bøger\, 
 og byt til noget nyt gammelt 😊\n\n\n
URL:https://www.nykfspejderne.dk/begivenhed/kulturfabrikken-indvielsesfest-
 af-nyt-udeomraade
DTSTART:20250627T123000Z
DTEND:20250627T160000Z
LOCATION:Nykøbing F. Spejderne\, Poul Martin Møllersvej 4\, 4800 Nykøbin
 g F
END:VEVENT
BEGIN:VEVENT
UID:gruppeweb.dk:3109:event:196
DTSTAMP:20260422T153449Z
LAST-MODIFIED:20250710T184811Z
SUMMARY:Grønkoncert 26. juli 2025
DESCRIPTION:Hjælpere til Grøn Koncert 26. juli 2025 i Næstved\n\n\nGrøn
  Koncert kommer til Næstved 26 juli. Nykøbing F Spejderne skal igen i  \
 når hjælpe med at dirigere trafikken ind på parkeringspladsen. Vi håbe
 r  \nmeget\, at du vil hjælpe til og på den måde gavne Nykøbing F Spej
 derne.\n\nVi mødes på dagen kl 10 ved parkeringspladsen ved på Holsted 
 Alle ved  \nBilka. Efter en kort intro afmærker vi parkeringspladsen. De 
 fleste bilister  \nkommer mellem kl 12 og 14.30. Herefter tager vi afmærk
 ningen. Normalt er vi  \nfærdige kl 15.30. Der vil være fuld forplejning
  hele dagen.\n\nNår vi er færdige kan alle gøre\, hvad de vil. Mange af
  os benytter os af  \nmuligheden for at komme gratis ind på Grøn Koncert
 \, hvor det også er  \nmulighed for at få gratis mad og drikke.\n\nVi h
 åber meget\, at mange forældre vil bakke op om arrangementet. Tilmeld  \
 nogså gerne familie\, som har lyst til at hjælpe. Det er dog et krav\, a
 t den  \nfrivillige skal være fyldt 18 år på dagen\, så det er ikke et
  arrangement  \nfor vores spejdere. Se programmet til koncerten her https:
 //groenkoncert.dk/\n\nHilsen Anders Müller\n\nFormand\n\n\n\n\n\n\n
URL:https://www.nykfspejderne.dk/begivenhed/groenkoncert-26-juli-2025
DTSTART:20250726T080000Z
DTEND:20250726T160000Z
LOCATION:Grøn Koncert Næstved\, Holsted Alle 100\, 4700 Næstved
END:VEVENT
BEGIN:VEVENT
UID:gruppeweb.dk:3109:event:195
DTSTAMP:20260422T153449Z
LAST-MODIFIED:20250623T154818Z
SUMMARY:Junior-/tropssommerlejr 2025
DESCRIPTION:Kære junior- og tropsspejdere \n\nDette års sommerlejr går 
 til søspejdercentret Thurøbund ved Svendborg.  \nPå sommerlejren skal v
 i som altid sove i telt\, nyde sommervejret\, bygge med  \nrafter\, være 
 ud i naturen mv.\, men i år får vi mulighed for at prøve  \nkræfter me
 d at sejle som en ekstra aktivitet. \n\nPå Thurøbund er der mulighed fo
 r at sejle i Svendborgjoller\, Thurøjoller\,  \nOptimistjoller\, kanoer\,
  paddelbords\, robåde mv. Sejlaktiviteterne er  \ntilrettelagt\, så man 
 ikke behøver at have kendskab til at sejle i forvejen.  \nPå Thurøbund 
 er der dygtige medarbejdere der instruerer og hjælper til med  \nsejladse
 n.\n\n*Hvor: *Thurøbund Spejdercenter\, Grastenvej 204C\, 5700 Svendborg
 \n\n*Hvornår:* Lørdag den 2. august til onsdag den 6. august 2025\n\n*Pr
 isen for sommerlejren vil være:* 1.000 kr. (Prisen dækker lejre med  \na
 ktiviteter\, transport og mad)\n\n*Hvornår vi skal begive os af sted ud i
  solen:* Lørdag kl. 9.00 fra  \nspejderhytten på Grønnegårdsvej - Hjem
 me onsdag kl. 15.00 samme sted.\n\n*Tilmeldingsfrist:* Fredag den 13. juni
  2025 kl. 22.00.\n\n*Transport:* Vi kører i bil til Thurøbund\, da det t
 ager lang tid at tage  \ndet offentlige og er uforholdsmæssigt dyrt. Hvis
  der ikke er plads nok i  \nlederbilerne vil det være rigtig dejligt\, hv
 is der er nogen der har mulighed  \nfor at kører – vi dækker færge og
  brændstofudgifter.\n\n*Husk:* Madpakke til lørdag frokost\, sovepose\, 
 liggeunderlag\, bestik &  \nservice\, drikkedunk + viskestykke\, skiftetø
 j til fem dage ude – det kan  \nblive køligt om aftenen\, badetøj\, h
 åndklæde\, toilettaske\, solcreme\,  \nmyggebalsam\, evt. regntøj tjek 
 vejrudsigten\, fodtøj til en god gåtur. En  \nlys t-shirt hvis man vil h
 ave tryk på en t-shirt. Alt skal kunne være i  \nrygsækken. Vi tager ik
 ke ansvar for mobiltelefoner og anden elektronik. \n\nDet sydfynske øhav
  og de lyse nætter kalder på de seje spejdere fra  \nNykøbing F\n\nMed 
 Spejderhilsen\n\nLederne\n\n
URL:https://www.nykfspejderne.dk/begivenhed/junior-tropssommerlejr-2025
DTSTART:20250802T070000Z
DTEND:20250806T130000Z
LOCATION:Thurøbund Spejdercenter\, Grastenvej 204C\, 5700 Svendborg
END:VEVENT
BEGIN:VEVENT
UID:gruppeweb.dk:3109:event:199
DTSTAMP:20260422T153449Z
LAST-MODIFIED:20250810T121333Z
SUMMARY:Opstart efter sommerferien
DESCRIPTION:\n
URL:https://www.nykfspejderne.dk/begivenhed/opstart-efter-sommerferien
DTSTART:20250820T150000Z
DTEND:20250820T170000Z
LOCATION:
END:VEVENT
BEGIN:VEVENT
UID:gruppeweb.dk:3109:event:200
DTSTAMP:20260422T153449Z
LAST-MODIFIED:20250609T131502Z
SUMMARY:Oprykning
DESCRIPTION:Vi mødes alle grene kl. 17:00 ved hytten på Grønnegårdsvej.
 \n\nDenne dag vil der være spejdere som skal rykke op til den næste gren
 .  \n(Mikro til mini\, mini til junior\, junior til trop og trop til klan.
 )\n\nmødet er ikke for forældre\, men kun spejderne.\n\n
URL:https://www.nykfspejderne.dk/begivenhed/oprykning-0
DTSTART:20250827T150000Z
DTEND:20250827T170000Z
LOCATION:Hytten på Grønnegårdsvej\, Grønnegårdsvej 43\, 4800 Nykøbing
  F
END:VEVENT
BEGIN:VEVENT
UID:gruppeweb.dk:3109:event:216
DTSTAMP:20260422T153449Z
LAST-MODIFIED:20250814T182815Z
SUMMARY:Sydhavs Camp 2025
DESCRIPTION:Så er det igen tid til Sydhavs Camp. Denne gang foregår det v
 ed  \nMiddelaldercentret Nyk. F.\nMikro-\, Mini- og Junior spejdere vil de
 ltage i aktiviteter på  \nMiddelaldercentret med efterfølgende fællesb
 ål og overnatning i telte.\n\nMadpakke til frokost lørdag skal spejderen
  selv medbringe. Der vil blive  \nsørget for aftensmad lørdag samt morge
 nmad søndag.\nHusk drikkedunk og spisegrej.\n\nVi mødes ved spejderhytt
 en på Poul Martin Møllersvej 4\, 4800 Nykøbing F.  \nkl. 08:30\, hvoref
 ter vi kører til Middelaldercentret.\nSydhavs Camp slutter kl. 11:00\, hv
 or i bedes hente jeres børn ved  \nMiddelaldercentret.\nAftal gerne samk
 ørsel med hinanden.\n\nDeltagelse er gratis. \n\nSidste frist for tilmel
 ding er d. 27-08-2025.\n\nVi håber at se alle til en middelalderlig Sydha
 vs Camp.\n\n
URL:https://www.nykfspejderne.dk/begivenhed/sydhavs-camp-2025
DTSTART:20250906T063000Z
DTEND:20250907T090000Z
LOCATION:Nykøbing F. Spejderne\, Poul Martin Møllersvej 4\, 4800 Nykøbin
 g F
END:VEVENT
BEGIN:VEVENT
UID:gruppeweb.dk:3109:event:205
DTSTAMP:20260422T153449Z
LAST-MODIFIED:20250812T191251Z
SUMMARY:Efterårsferie - Intet spejdermøde
DESCRIPTION:\n
URL:https://www.nykfspejderne.dk/begivenhed/efteraarsferie-intet-spejdermoe
 de
DTSTART;VALUE=DATE:20251015
LOCATION:Nykøbing F. Spejderne\, Poul Martin Møllersvej 4\, 4800 Nykøbin
 g F
END:VEVENT
BEGIN:VEVENT
UID:gruppeweb.dk:3109:event:211
DTSTAMP:20260422T153449Z
LAST-MODIFIED:20250812T192157Z
SUMMARY:Julemærkemarch
DESCRIPTION:
URL:https://www.nykfspejderne.dk/begivenhed/julemaerkemarch
DTSTART;VALUE=DATE:20251207
LOCATION:
END:VEVENT
BEGIN:VEVENT
UID:gruppeweb.dk:3109:event:210
DTSTAMP:20260422T153449Z
LAST-MODIFIED:20250812T192155Z
SUMMARY:Juleafslutning
DESCRIPTION:\n
URL:https://www.nykfspejderne.dk/begivenhed/juleafslutning
DTSTART;VALUE=DATE:20251210
LOCATION:Nykøbing F. Spejderne\, Poul Martin Møllersvej 4\, 4800 Nykøbin
 g F
END:VEVENT
BEGIN:VEVENT
UID:gruppeweb.dk:3109:event:225
DTSTAMP:20260422T153449Z
LAST-MODIFIED:20251126T214247Z
SUMMARY:Juleafslutning 2025
DESCRIPTION:======== KÆRE SPEJDERE OG FAMILIER ===========================
 ===============\n ========================================================
 =====================\n\n ------------------------------------------------
 -----------------------------\n\nVi holder juleafslutning for hele gruppen
  onsdag 10. december kl. 17.00 i  \nspejderhytten på Poul Martin Møllers
 vej 4\, 4800 Nykøbing F.\nVi starter med aktiviteter udendørs\, så HUSK
  påklædning efter vejret og  \ngerne også en lygte.\nBagefter hygger vi
  indendørs med hjemmelavet risengrød og saftevand.\n ===================
 ==========================================================\n\nHanne kommer
  og spiller og synger julesange med os.\nDet koster 20 kr. pr. person over
  5 år.\nTilmeldingsfrist søndag den 7. december 2025.\nDenne dag er for 
 alle\, også forældre\, bedsteforældre og søskende\, så kom  \nendelig
  og julehyg med os.\nVel mødt!\nMed spejderhilsen\nNykøbing F. Spejderne
 \n\n\n\n\n\n
URL:https://www.nykfspejderne.dk/begivenhed/juleafslutning-2025
DTSTART:20251210T160000Z
DTEND:20251210T180000Z
LOCATION:Nykøbing F. Spejderne\, Poul Martin Møllersvej 4\, 4800 Nykøbin
 g F
END:VEVENT
BEGIN:VEVENT
UID:gruppeweb.dk:3109:event:207
DTSTAMP:20260422T153449Z
LAST-MODIFIED:20250812T192152Z
SUMMARY:Intet spejdermøde
DESCRIPTION:
URL:https://www.nykfspejderne.dk/begivenhed/intet-spejdermoede-0
DTSTART;VALUE=DATE:20251217
LOCATION:
END:VEVENT
BEGIN:VEVENT
UID:gruppeweb.dk:3109:event:212
DTSTAMP:20260422T153449Z
LAST-MODIFIED:20250812T192158Z
SUMMARY:Opstart efter juleferien
DESCRIPTION:
URL:https://www.nykfspejderne.dk/begivenhed/opstart-efter-juleferien
DTSTART;VALUE=DATE:20260107
LOCATION:
END:VEVENT
BEGIN:VEVENT
UID:gruppeweb.dk:3109:event:213
DTSTAMP:20260422T153449Z
LAST-MODIFIED:20250812T192158Z
SUMMARY:Vinterferie - Intet spejdermøde
DESCRIPTION:
URL:https://www.nykfspejderne.dk/begivenhed/vinterferie-intet-spejdermoede
DTSTART;VALUE=DATE:20260211
LOCATION:
END:VEVENT
BEGIN:VEVENT
UID:gruppeweb.dk:3109:event:226
DTSTAMP:20260422T153449Z
LAST-MODIFIED:20260203T211022Z
SUMMARY:Fællesspisning og Grupperådsmøde 2026
DESCRIPTION:\nKære spejdere og forældre \n\nVi vil gerne invitere alle m
 ed tilknytning til Nykøbing F. Spejderne til  \nfællesspisning\, grupper
 ådsmøde (generalforsamling). \n\n\n-------- Onsdag den 25. februar 2026
  klokken 17.00-19.30 ---------------------\n\n\npå Sophieskolen\, Merkur
 s Pl. 4\, 4800 Nykøbing Falster [1] / /\n\nGrupperådsmødet er der vi 
 beslutter hvad gruppen skal arbejde med og hvor  \nvi drøfter om der er n
 oget vi skal blive bedre til. Det er også her hvor  \nledelse og gruppest
 yrelse (bestyrelsen) fortæller om planerne for det  \nkommende år\, f.ek
 s. sommerlejr et vigtigt omdrejningspunkt for vores  \nspejdergruppe\, og 
 det er vigtigt at så mange forældre og spejdere møder op  \ndenne dag.
  \n\nPlanen er at vi starter med at spise aftensmad sammen kl. 17.00. - C
 a. kl.  \n17.45. Herefter er der underholdning af de mindre spejdere og s
 øskende mens  \nde voksne + spejdere på +15 år holder grupperådsmøde 
 (generalforsamling).\n\nGruppen sørger for mad til alle! Af hensyn til be
 stilling af mad skal man  \ntilmelde sig hvis man vil have aftensmad med. 
 *Tilmeldingsfrist d. 18.  \nfebruar 2025.*\n\nAlmindelig deltagelse i grup
 perådsmødet kræver ikke tilmelding.\n\n\n[1] https://www.google.com/map
 s/place//data=!4m2!3m1!1s0x47ad30548d225265:0xaac7e1406e69030f?sa=X&amp\;v
 ed=2ahUKEwjs3t3IvIOEAxUdGxAIHRKcC3IQ4kB6BAgGEAA\n
URL:https://www.nykfspejderne.dk/begivenhed/faellesspisning-og-grupperaadsm
 oede-2026
DTSTART:20260225T160000Z
DTEND:20260225T183000Z
LOCATION:Sophieskolen\, Merkurs Plads 4\, 4800 Nykøbing Falster
END:VEVENT
BEGIN:VEVENT
UID:gruppeweb.dk:3109:event:229
DTSTAMP:20260422T153449Z
LAST-MODIFIED:20260318T162753Z
SUMMARY:Gruppetur 2026
DESCRIPTION:======== Så er det tid til Gruppetur 2026\n         På gruppe
 turen får alle spejdere uanset alder mulighed for at\n         lære hina
 nden at kende. Vi skal være ude hele weekenden og øve\n         alle vor
 es spejderfærdigheder. Undersøge skov og strand\, på løb\n         i s
 koven og meget andet. ============================================\n\n....
  Hvornår?\n\nDen 20-22. marts\n\n.... Hvor?\n\nGedser Naturcenter\nSkovv
 ænget 30\n4874 Gedser\n\n.... Hvad koster det?\n\n250 kr\n\n.... Hvornår
  skal vi afsted?\n\nMikroerne og minierne mødes ved spejderhytten på Pou
 l Martin Møllersvej  \nkl. 17.00 og kører i biler. Pak gerne i rygsæk d
 a de er lettere at pakke i  \nbilen.\nJuniorerne og troppen mødes på Nyk
 øbing F station kl. 16.45 og tager  \nbussen kl. 17:05. Pak derfor i rygs
 æk. De sidste 800 m skal aflægges til  \nfods.\n\n.... Lidt praktisk og 
 hvad skal vi have med\n\nMikro og mini sover inde  - så de skal have uds
 tyr med til en hyttetur.\nJunior og trop sover ude - så de skal have udst
 yr med til at sove ude -  \ntelte mv. bliver kørt\, så det er kun deres 
 egen rygsæk inkl. eget udstyr\,  \nde skal kunne bære.\n\nAlle skal pakk
 e efter vejret\, da vi skal være meget ude\, og husk ekstra  \nsokker og 
 vandtætte sko/støvler.\n\n.. Husk \n\nBestik\, service\, viskestykke og
  ikke mindst *MADPAKKE til fredag aften*.\n\n.... Hvordan kommer vi hjem?
 \n\nWeekenden slutter med at forældre og evt. søskende kommer og spiser 
 frokost  \nsammen med spejderne kl. 11.30 inden vi pakker det sidste samme
 n og kører  \nhjem. Planlæg evt. samkørsel. Hvis nogen har transportpro
 blemer så skriv  \ntil jeres daglige leder.\n\n.. Vi glæder os til at ta
 ge på en super fed gruppetur med alle grene. Husk\n   jo flere vi er jo s
 jovere bliver det.\n\n\n
URL:https://www.nykfspejderne.dk/begivenhed/gruppetur-2026
DTSTART:20260320T160000Z
DTEND:20260322T120000Z
LOCATION:Gedser Naturcenter\, Skovvænget 30\, 4874 Gedser
END:VEVENT
BEGIN:VEVENT
UID:gruppeweb.dk:3109:event:209
DTSTAMP:20260422T153449Z
LAST-MODIFIED:20250812T192154Z
SUMMARY:Påskeferie - Intet spejdermøde
DESCRIPTION:
URL:https://www.nykfspejderne.dk/begivenhed/paaskeferie-intet-spejdermoede
DTSTART;VALUE=DATE:20260401
LOCATION:
END:VEVENT
BEGIN:VEVENT
UID:gruppeweb.dk:3109:event:208
DTSTAMP:20260422T153449Z
LAST-MODIFIED:20250812T192152Z
SUMMARY:Sommerafslutning
DESCRIPTION:
URL:https://www.nykfspejderne.dk/begivenhed/sommerafslutning
DTSTART;VALUE=DATE:20260617
LOCATION:
END:VEVENT
BEGIN:VEVENT
UID:gruppeweb.dk:3109:event:206
DTSTAMP:20260422T153449Z
LAST-MODIFIED:20250812T192148Z
SUMMARY:Intet spejdermøde
DESCRIPTION:
URL:https://www.nykfspejderne.dk/begivenhed/intet-spejdermoede
DTSTART;VALUE=DATE:20260624
LOCATION:
END:VEVENT
BEGIN:VEVENT
UID:gruppeweb.dk:3109:event:227
DTSTAMP:20260422T153449Z
LAST-MODIFIED:20260203T221820Z
SUMMARY:SL 2026 - Sommerlejr mini\, junior\, trop og klan
DESCRIPTION:Kære seje mini\, junior\, trop\, klan og forældre\n\nI 2026 g
 år årets sommerlejr til Spejdernes Lejr 2026 i Hedeland\nved Roskilde.\n
 \nSL 2026 er med 30.000 deltagere fra ind- og udland Danmarks største  \n
 spejderlejr. Lejren er arrangeret af de fem danske spejderkorps: Det Dansk
 e  \nSpejderkorps\, KFUM-Spejderne i Danmark\, De grønne pigespejdere\, D
 anske  \nBaptisters Spejderkorps og Dansk Spejderkorps Sydslesvig.\n\nSL 2
 026 foregår fra 18. til 26. juli 2026 i Hedeland Naturpark. Det er otte  
 \ndage fulde af sjove aktiviteter\, nye venskaber\, store oplevelser og ma
 sser af  \nspejderliv sammen med dem du kender fra gruppen\, men med rig m
 ulighed for at  \nmøde spejdere på tværs af korps fra resten af Danmark
  og hele verden. \n\nLejrens vision og tema er "Alle ind i fællesskabet"
 . Her handler det om\, at  \nmødes på tværs af alder\, korps\, landsdel
 e og erfaringer. Det handler om at  \nvære nysgerrige på hinanden\, at t
 age ansvar for fællesskabet\, få nye  \nperspektiver og give plads til b
 ådede store fællesskaber og de små  \nøjeblikke. Det kan være\, når 
 man sidder omkring bålet med nabopatruljen  \nog rister skumfiduser\, læ
 rer at sige “hej” på fem nye sprog\, eller  \nhjælper nogen med at g
 rave render i regnvejret.\n\n-------- Hvorfor skal du med på Spejdernes L
 ejr 2026? -----------------------\n\nSpejdernes Lejr er en lidt større op
 levelse\, end du er vant til fra  \ngruppeture og centerlejre. Lejren fore
 går hvert fjerde år forskellige  \nsteder i Danmark. Hvis du tager med p
 å Spejdernes Lejr 2026 får du:\n\n * En lejr fyldt med aktiviteter\, udf
 ordringer og oplevelser - vi normalt\n   ikke kan få.\n   \n * Et unikt f
 ællesskab med spejdere fra hele landet (og resten af verden).\n   \n * Op
 levelsen af en spejderby\, hvor 30.000 af børn\, unge og voksne bor\,\n  
  leger\, lærer og arbejder sammen.\n   \n * Minder for livet!\n   \n\n---
 ----- Tidspunkt for sommerlejren -----------------------------------------
 -\n\nFor junior og trop er det fuld lejr fra lørdag 18. juli til\nden sø
 ndag 26. juli 2026.\n\nFor minierne starter lejren onsdag den 22. juli og\
 nslutter søndag den 26. juli 2026.\n\n-------- Prisen for Spejdernes Lejr
  og tilmelding: ---------------------------\n\n\nPrisen for den fulde lejr
  er normalt 2.475 kr. Men da vi får refusion for en  \ndel af lejrpladsle
 jen\, fastsættes prisen til:\n\n- 1.500 kr for junior\, trop og klan\n\n-
  1.000 kr for mini\n\nBetalingen dækker sommerlejren med aktiviteter\, ma
 d og\ntransport Vi deler prisen op i to rater\, første halvdel betales ve
 d  \ntilmelding senest den 26. februar 2026 og anden rate opkræves 31. ma
 j 2026.\n\n-------- Transport og tidspunkt for ud- og hjemrejse ----------
 ---------------\n\n\nTransport til lejren og tidspunkt for afrejse og hjem
 kost: Vi\nsamles op med bus\, et sted i Nykøbing\, men vi ved endnu ikke 
 hvornår  \nbusserne\nvil hente os. Der kommer mere information når vi n
 ærmer os sommeren.\n\nSommerspejderhilsen – i en kold vinterdag\n\n
URL:https://www.nykfspejderne.dk/begivenhed/sl-2026-sommerlejr-mini-junior-
 trop-og-klan
DTSTART;VALUE=DATE:20260718
DTEND;VALUE=DATE:20260727
LOCATION:Nykøbing F. Spejderne\, Poul Martin Møllersvej 4\, 4800 Nykøbin
 g F
END:VEVENT
BEGIN:VEVENT
UID:gruppeweb.dk:3109:event:215
DTSTAMP:20260422T153449Z
LAST-MODIFIED:20250812T193057Z
SUMMARY:Grøn Koncert
DESCRIPTION:
URL:https://www.nykfspejderne.dk/begivenhed/groen-koncert
DTSTART;VALUE=DATE:20260725
LOCATION:
END:VEVENT
BEGIN:VEVENT
UID:gruppeweb.dk:3109:event:175
DTSTAMP:20260422T153449Z
LAST-MODIFIED:20250812T193059Z
SUMMARY:Tørklæde
DESCRIPTION:Dette er ikke en tur eller arrangement.\n\nHer kan man købe ny
 t/ekstra tørklæder\, hvis man har mistet det man har\,  \nønsker sig et
  ekstra\, eller skal have nogen ekstra med på større lejre  \nhvor man k
 an bytte tørklæder med andre spejdere.\n\nDet er en god ide at betale me
 ns man er sammen med lederne så de kan se man  \nhar betalt og man kan f
 å tørklædet med det samme.\n\n
URL:https://www.nykfspejderne.dk/begivenhed/toerklaede
DTSTART:20260930T144400Z
DTEND:20310528T135200Z
LOCATION:Nykøbing F. Spejderne\, Poul Martin Møllersvej 4\, 4800 Nykøbin
 g F
END:VEVENT
END:VCALENDAR
